BEGIN:VCALENDAR
VERSION:2.0
PRODID:-//ChurchDev//Events//EN
CALSCALE:GREGORIAN
METHOD:PUBLISH
BEGIN:VEVENT
UID:3001-20190106@www.connectingfellowship.org
SUMMARY:Worship Service
DTSTART:20190106T160000Z
DTEND:20190106T170000Z
DESCRIPTION:https://www.connectingfellowship.org/events/worship-service/
LOCATION:15730 W Hardy Rd #300\, Houston\, TX 77060
URL:https://www.connectingfellowship.org/events/worship-service/
DTSTAMP:20260420T115450Z
END:VEVENT
END:VCALENDAR
